BEGIN:VCALENDAR
CALSCALE:GREGORIAN
METHOD:PUBLISH
PRODID:-//5.199.133.97//NONSGML iCalcreator 2.6//
VERSION:2.0
UNIQUE_ID:event1174@Йога секреты
X-WR-TIMEZONE:Asia/Baku
BEGIN:VEVENT
UID:event1174@Йога секреты
DTSTAMP:20260421T054849Z
CATEGORIES:Практикум
DESCRIPTION:ОМ-медитация\nТип события: Практик
 м\nСсылка: https://yogasecrets.ru/index.php?option=com_eventlist&v
 iew=details&id=1174:-&Itemid=117\n
DTSTART;TZID=Asia/Baku:20150822T130000
DTEND;TZID=Asia/Baku:20150822T140000
LOCATION:Студия 'Воздух'\,3-й Самотёчный переу
 ок\, д. 11\, стр. 1\,Москва\,Russian Federation
SUMMARY:ОМ-медитация
URL:https://yogasecrets.ru/index.php?option=com_eventlist&view=details&id=1
 174:-&Itemid=117
END:VEVENT
END:VCALENDAR
