BEGIN:VCALENDAR
CALSCALE:GREGORIAN
METHOD:PUBLISH
PRODID:-//5.199.133.97//NONSGML iCalcreator 2.6//
VERSION:2.0
UNIQUE_ID:event1175@Йога секреты
X-WR-TIMEZONE:Asia/Baku
BEGIN:VEVENT
UID:event1175@Йога секреты
DTSTAMP:20260421T023439Z
CATEGORIES:Практикум
DESCRIPTION:Vinyasa flow yoga под живую музыку Animus project
 \nТип события: Практикум\nСсылка: https://yogasec
 rets.ru/index.php?option=com_eventlist&view=details&id=1175:vinyasa-flow-y
 oga----animus-project&Itemid=117\n
DTSTART;TZID=Asia/Baku:20150913T180000
DTEND;TZID=Asia/Baku:20150913T200000
LOCATION:Студия 'Воздух'\,3-й Самотёчный переу
 ок\, д. 11\, стр. 1\,Москва\,Russian Federation
SUMMARY:Vinyasa flow yoga под живую музыку Animus project
URL:https://yogasecrets.ru/index.php?option=com_eventlist&view=details&id=1
 175:vinyasa-flow-yoga----animus-project&Itemid=117
END:VEVENT
END:VCALENDAR
