BEGIN:VCALENDAR
CALSCALE:GREGORIAN
METHOD:PUBLISH
PRODID:-//5.199.133.97//NONSGML iCalcreator 2.6//
VERSION:2.0
UNIQUE_ID:event12109@Йога секреты
X-WR-TIMEZONE:Asia/Baku
BEGIN:VEVENT
UID:event12109@Йога секреты
DTSTAMP:20260425T114907Z
CATEGORIES:Практикум
DESCRIPTION:Практика «Йога Айенгара» с Марией 
 Верешкиной\nТип события: Практикум\nСсыл
 а: https://yogasecrets.ru/index.php?option=com_eventlist&view=details&id
 =12109&Itemid=117\n
DTSTART;TZID=Asia/Baku:20241004T103000
DTEND;TZID=Asia/Baku:20241227T120000
LOCATION:
SUMMARY:Практика «Йога Айенгара» с Марией Ве
 решкиной
URL:https://yogasecrets.ru/index.php?option=com_eventlist&view=details&id=1
 2109&Itemid=117
END:VEVENT
END:VCALENDAR
