BEGIN:VCALENDAR
CALSCALE:GREGORIAN
METHOD:PUBLISH
PRODID:-//5.199.133.97//NONSGML iCalcreator 2.6//
VERSION:2.0
UNIQUE_ID:event1212@Йога секреты
X-WR-TIMEZONE:Asia/Baku
BEGIN:VEVENT
UID:event1212@Йога секреты
DTSTAMP:20260421T090251Z
CATEGORIES:Практикум
DESCRIPTION:День открытых дверей\nТип события: 
 Практикум\nСсылка: https://yogasecrets.ru/index.php?option=
 com_eventlist&view=details&id=1212:--&Itemid=117\n
DTSTART;VALUE=DATE:20150723
DTEND;VALUE=DATE:20150724
LOCATION:Студия йоги Виталия Павлова\, Митино
 \,Митинская\, 16\,Москва\,Russian Federation
SUMMARY:День открытых дверей
URL:https://yogasecrets.ru/index.php?option=com_eventlist&view=details&id=1
 212:--&Itemid=117
END:VEVENT
END:VCALENDAR
