BEGIN:VCALENDAR
CALSCALE:GREGORIAN
METHOD:PUBLISH
PRODID:-//5.199.133.97//NONSGML iCalcreator 2.6//
VERSION:2.0
UNIQUE_ID:event12168@Йога секреты
X-WR-TIMEZONE:Asia/Baku
BEGIN:VEVENT
UID:event12168@Йога секреты
DTSTAMP:20260425T160238Z
CATEGORIES:Практикум
DESCRIPTION:Практика «Хатха-йога» с Татьяной Д
 едовой\nТип события: Практикум\nСсылка: htt
 ps://yogasecrets.ru/index.php?option=com_eventlist&view=details&id=12168&I
 temid=117\n
DTSTART;VALUE=DATE:20241108
DTEND;VALUE=DATE:20250401
LOCATION:
SUMMARY:Практика «Хатха-йога» с Татьяной Дед
 овой
URL:https://yogasecrets.ru/index.php?option=com_eventlist&view=details&id=1
 2168&Itemid=117
END:VEVENT
END:VCALENDAR
