BEGIN:VCALENDAR
CALSCALE:GREGORIAN
METHOD:PUBLISH
PRODID:-//5.199.133.97//NONSGML iCalcreator 2.6//
VERSION:2.0
UNIQUE_ID:event1232@Йога секреты
X-WR-TIMEZONE:Asia/Baku
BEGIN:VEVENT
UID:event1232@Йога секреты
DTSTAMP:20260421T072606Z
CATEGORIES:Практикум
DESCRIPTION:Курс пранаям с Дмитрием Фомичевым
 \nТип события: Практикум\nСсылка: https://yogasec
 rets.ru/index.php?option=com_eventlist&view=details&id=1232:----&Itemid=11
 7\n
DTSTART;TZID=Asia/Baku:20150801T113000
DTEND;TZID=Asia/Baku:20150829T130000
LOCATION:Студия 'Воздух'\,3-й Самотёчный переу
 ок\, д. 11\, стр. 1\,Москва\,Russian Federation
SUMMARY:Курс пранаям с Дмитрием Фомичевым
URL:https://yogasecrets.ru/index.php?option=com_eventlist&view=details&id=1
 232:----&Itemid=117
END:VEVENT
END:VCALENDAR
