BEGIN:VCALENDAR
CALSCALE:GREGORIAN
METHOD:PUBLISH
PRODID:-//5.199.133.97//NONSGML iCalcreator 2.6//
VERSION:2.0
UNIQUE_ID:event1242@Йога секреты
X-WR-TIMEZONE:Asia/Baku
BEGIN:VEVENT
UID:event1242@Йога секреты
DTSTAMP:20260421T054956Z
CATEGORIES:Практикум
DESCRIPTION:Йога Нидра с Димой Фомичёвым\nТип с
 обытия: Практикум\nСсылка: https://yogasecrets.ru/ind
 ex.php?option=com_eventlist&view=details&id=1242:----&Itemid=117\n
DTSTART;TZID=Asia/Baku:20150808T131500
DTEND;TZID=Asia/Baku:20150808T143000
LOCATION:Студия 'Воздух'\,3-й Самотёчный переу
 ок\, д. 11\, стр. 1\,Москва\,Russian Federation
SUMMARY:Йога Нидра с Димой Фомичёвым
URL:https://yogasecrets.ru/index.php?option=com_eventlist&view=details&id=1
 242:----&Itemid=117
END:VEVENT
END:VCALENDAR
