BEGIN:VCALENDAR
CALSCALE:GREGORIAN
METHOD:PUBLISH
PRODID:-//5.199.133.97//NONSGML iCalcreator 2.6//
VERSION:2.0
UNIQUE_ID:event1249@Йога секреты
X-WR-TIMEZONE:Asia/Baku
BEGIN:VEVENT
UID:event1249@Йога секреты
DTSTAMP:20260421T040132Z
CATEGORIES:Практикум
DESCRIPTION:Мастер Чандран в центре йоги и аюр
 еды «Керала»\nТип события: Практикум\nСс
 лка: https://yogasecrets.ru/index.php?option=com_eventlist&view=detail
 s&id=1249:-------lr&Itemid=117\n
DTSTART;TZID=Asia/Baku:20150910T100000
DTEND;TZID=Asia/Baku:20151010T210000
LOCATION:Центр аюрведы и йоги 'Керала'\,Мичури
 нский проспект\,3\,Москва\,Russian Federation
SUMMARY:Мастер Чандран в центре йоги и аюрве
 ы «Керала»
URL:https://yogasecrets.ru/index.php?option=com_eventlist&view=details&id=1
 249:-------lr&Itemid=117
END:VEVENT
END:VCALENDAR
