BEGIN:VCALENDAR
CALSCALE:GREGORIAN
METHOD:PUBLISH
PRODID:-//5.199.133.97//NONSGML iCalcreator 2.6//
VERSION:2.0
UNIQUE_ID:event12685@Йога секреты
X-WR-TIMEZONE:Asia/Baku
BEGIN:VEVENT
UID:event12685@Йога секреты
DTSTAMP:20260420T181728Z
CATEGORIES:Практикум
DESCRIPTION:Йога-тур в Северную Осетию\, Диогор
 ия\nТип события: Практикум\nСсылка: https://yog
 asecrets.ru/index.php?option=com_eventlist&view=details&id=12685:-----&Ite
 mid=117\n
DTSTART;VALUE=DATE:20260608
DTEND;VALUE=DATE:20260614
LOCATION:
SUMMARY:Йога-тур в Северную Осетию\, Диогория
URL:https://yogasecrets.ru/index.php?option=com_eventlist&view=details&id=1
 2685:-----&Itemid=117
END:VEVENT
END:VCALENDAR
