BEGIN:VCALENDAR
CALSCALE:GREGORIAN
METHOD:PUBLISH
PRODID:-//5.199.133.97//NONSGML iCalcreator 2.6//
VERSION:2.0
UNIQUE_ID:event12715@Йога секреты
X-WR-TIMEZONE:Asia/Baku
BEGIN:VEVENT
UID:event12715@Йога секреты
DTSTAMP:20260419T135007Z
CATEGORIES:Практикум
DESCRIPTION:Практика «ТриЙога (TriYoga)» с Наталье
 й Большагиной\nТип события: Практикум\nСс
 ылка: https://yogasecrets.ru/index.php?option=com_eventlist&view=detai
 ls&id=12715&Itemid=117\n
DTSTART;TZID=Asia/Baku:20260112T183000
DTEND;TZID=Asia/Baku:20260531T200000
LOCATION:
SUMMARY:Практика «ТриЙога (TriYoga)» с Натальей 
 ольшагиной
URL:https://yogasecrets.ru/index.php?option=com_eventlist&view=details&id=1
 2715&Itemid=117
END:VEVENT
END:VCALENDAR
