BEGIN:VCALENDAR
CALSCALE:GREGORIAN
METHOD:PUBLISH
PRODID:-//5.199.133.97//NONSGML iCalcreator 2.6//
VERSION:2.0
UNIQUE_ID:event1350@Йога секреты
X-WR-TIMEZONE:Asia/Baku
BEGIN:VEVENT
UID:event1350@Йога секреты
DTSTAMP:20260421T023445Z
CATEGORIES:Практикум
DESCRIPTION:Рефлексотерапевт Югандхар в центр
 е «Керала» с 5 октября\nТип события: Практ
 икум\nСсылка: https://yogasecrets.ru/index.php?option=com_eventl
 ist&view=details&id=1350:----lr--5-&Itemid=117\n
DTSTART;TZID=Asia/Baku:20151006T110000
DTEND;TZID=Asia/Baku:20151130T190000
LOCATION:Центр аюрведы и йоги 'Керала'\,Мичури
 нский проспект\,3\,Москва\,Russian Federation
SUMMARY:Рефлексотерапевт Югандхар в центре 
 Керала» с 5 октября
URL:https://yogasecrets.ru/index.php?option=com_eventlist&view=details&id=1
 350:----lr--5-&Itemid=117
END:VEVENT
END:VCALENDAR
