BEGIN:VCALENDAR
CALSCALE:GREGORIAN
METHOD:PUBLISH
PRODID:-//5.199.133.97//NONSGML iCalcreator 2.6//
VERSION:2.0
UNIQUE_ID:event1356@Йога секреты
X-WR-TIMEZONE:Asia/Baku
BEGIN:VEVENT
UID:event1356@Йога секреты
DTSTAMP:20260420T191239Z
CATEGORIES:Практикум
DESCRIPTION:Йога тур на Бали\nТип события: Прак
 икум\nСсылка: https://yogasecrets.ru/index.php?option=com_event
 list&view=details&id=1356:---&Itemid=117\n
DTSTART;VALUE=DATE:20151110
DTEND;VALUE=DATE:20151125
LOCATION:
SUMMARY:Йога тур на Бали
URL:https://yogasecrets.ru/index.php?option=com_eventlist&view=details&id=1
 356:---&Itemid=117
END:VEVENT
END:VCALENDAR
