BEGIN:VCALENDAR
CALSCALE:GREGORIAN
METHOD:PUBLISH
PRODID:-//5.199.133.97//NONSGML iCalcreator 2.6//
VERSION:2.0
UNIQUE_ID:event1387@Йога секреты
X-WR-TIMEZONE:Asia/Baku
BEGIN:VEVENT
UID:event1387@Йога секреты
DTSTAMP:20260420T191238Z
CATEGORIES:Практикум
DESCRIPTION:Бесплатный мастер-класс по Релакс-
 йоге\nТип события: Практикум\nСсылка: https:/
 /yogasecrets.ru/index.php?option=com_eventlist&view=details&id=1387:-----&
 Itemid=117\n
DTSTART;TZID=Asia/Baku:20151031T110000
DTEND;TZID=Asia/Baku:20151031T130000
LOCATION: Школа Каула-йоги м. Тургеневская\,Ми
 лютинский пер.\, 15\,Москва\,Russian Federation
SUMMARY:Бесплатный мастер-класс по Релакс-йо
 ге
URL:https://yogasecrets.ru/index.php?option=com_eventlist&view=details&id=1
 387:-----&Itemid=117
END:VEVENT
END:VCALENDAR
