BEGIN:VCALENDAR
CALSCALE:GREGORIAN
METHOD:PUBLISH
PRODID:-//5.199.133.97//NONSGML iCalcreator 2.6//
VERSION:2.0
UNIQUE_ID:event1486@Йога секреты
X-WR-TIMEZONE:Asia/Baku
BEGIN:VEVENT
UID:event1486@Йога секреты
DTSTAMP:20260420T161208Z
CATEGORIES:Практикум
DESCRIPTION:Магическая интеллектуально-психо
 огическая игра ЛИЛА.\nТип события: Практ
 кум\nСсылка: https://yogasecrets.ru/index.php?option=com_eventli
 st&view=details&id=1486:----&Itemid=117\n
DTSTART;TZID=Asia/Baku:20160103T180000
DTEND;TZID=Asia/Baku:20160103T210000
LOCATION:Центр аюрведы и йоги 'Керала'\,Мичури
 нский проспект\,3\,Москва\,Russian Federation
SUMMARY:Магическая интеллектуально-психоло
 ическая игра ЛИЛА.
URL:https://yogasecrets.ru/index.php?option=com_eventlist&view=details&id=1
 486:----&Itemid=117
END:VEVENT
END:VCALENDAR
