BEGIN:VCALENDAR
CALSCALE:GREGORIAN
METHOD:PUBLISH
PRODID:-//5.199.133.97//NONSGML iCalcreator 2.6//
VERSION:2.0
UNIQUE_ID:event1492@Йога секреты
X-WR-TIMEZONE:Asia/Baku
BEGIN:VEVENT
UID:event1492@Йога секреты
DTSTAMP:20260420T161115Z
CATEGORIES:Практикум
DESCRIPTION:Ведический астролог Сриджит Нампу
 тхири. Консультации\nТип события: Практи
 ум\nСсылка: https://yogasecrets.ru/index.php?option=com_eventlist
 &view=details&id=1492:----&Itemid=117\n
DTSTART;TZID=Asia/Baku:20160115T100000
DTEND;TZID=Asia/Baku:20160215T210000
LOCATION:Центр аюрведы и йоги 'Керала'\,Мичури
 нский проспект\,3\,Москва\,Russian Federation
SUMMARY:Ведический астролог Сриджит Нампутх
 ири. Консультации
URL:https://yogasecrets.ru/index.php?option=com_eventlist&view=details&id=1
 492:----&Itemid=117
END:VEVENT
END:VCALENDAR
