BEGIN:VCALENDAR
CALSCALE:GREGORIAN
METHOD:PUBLISH
PRODID:-//5.199.133.97//NONSGML iCalcreator 2.6//
VERSION:2.0
UNIQUE_ID:event1498@Йога секреты
X-WR-TIMEZONE:Asia/Baku
BEGIN:VEVENT
UID:event1498@Йога секреты
DTSTAMP:20260420T161116Z
CATEGORIES:Практикум
DESCRIPTION:Бесплатный класс мастера йоги Сун
 ла Дахия\nТип события: Практикум\nСсылка:
  https://yogasecrets.ru/index.php?option=com_eventlist&view=details&id=149
 8:-----&Itemid=117\n
DTSTART;TZID=Asia/Baku:20160116T130000
DTEND;TZID=Asia/Baku:20160116T150000
LOCATION:Центр аюрведы и йоги 'Керала'\,Мичури
 нский проспект\,3\,Москва\,Russian Federation
SUMMARY:Бесплатный класс мастера йоги Сунил
  Дахия
URL:https://yogasecrets.ru/index.php?option=com_eventlist&view=details&id=1
 498:-----&Itemid=117
END:VEVENT
END:VCALENDAR
