BEGIN:VCALENDAR
CALSCALE:GREGORIAN
METHOD:PUBLISH
PRODID:-//5.199.133.97//NONSGML iCalcreator 2.6//
VERSION:2.0
UNIQUE_ID:event1529@Йога секреты
X-WR-TIMEZONE:Asia/Baku
BEGIN:VEVENT
UID:event1529@Йога секреты
DTSTAMP:20260420T132550Z
CATEGORIES:Практикум
DESCRIPTION:«Воскресная практика» — йога-меро
 приятие с Андреем Попенко в\nТип события:
  Практикум\nСсылка: https://yogasecrets.ru/index.php?option
 =com_eventlist&view=details&id=1529:l-r-------&Itemid=117\n
DTSTART;TZID=Asia/Baku:20160207T110000
DTEND;TZID=Asia/Baku:20160207T140000
LOCATION:Студия «Iriniti»\,улица Гороховая\, дом 3
 6 \,Санкт-Петербург\,Russian Federation
SUMMARY:«Воскресная практика» — йога-меропр
 иятие с Андреем Попенко в
URL:https://yogasecrets.ru/index.php?option=com_eventlist&view=details&id=1
 529:l-r-------&Itemid=117
END:VEVENT
END:VCALENDAR
