BEGIN:VCALENDAR
CALSCALE:GREGORIAN
METHOD:PUBLISH
PRODID:-//5.199.133.97//NONSGML iCalcreator 2.6//
VERSION:2.0
UNIQUE_ID:event1557@Йога секреты
X-WR-TIMEZONE:Asia/Baku
BEGIN:VEVENT
UID:event1557@Йога секреты
DTSTAMP:20260420T131350Z
CATEGORIES:Практикум
DESCRIPTION:Пение мантры «Ом» в Санкт-Петербур
 ге\nТип события: Практикум\nСсылка: https://yog
 asecrets.ru/index.php?option=com_eventlist&view=details&id=1557:--lr---&It
 emid=117\n
DTSTART;TZID=Asia/Baku:20160223T190000
DTEND;TZID=Asia/Baku:20160223T200000
LOCATION:Пространство СкаFUNдр\,Загородный пр
 спект\, 22\,Санкт-Петербург \,Russian Federation
SUMMARY:Пение мантры «Ом» в Санкт-Петербурге
URL:https://yogasecrets.ru/index.php?option=com_eventlist&view=details&id=1
 557:--lr---&Itemid=117
END:VEVENT
END:VCALENDAR
