BEGIN:VCALENDAR
CALSCALE:GREGORIAN
METHOD:PUBLISH
PRODID:-//5.199.133.97//NONSGML iCalcreator 2.6//
VERSION:2.0
UNIQUE_ID:event1561@Йога секреты
X-WR-TIMEZONE:Asia/Baku
BEGIN:VEVENT
UID:event1561@Йога секреты
DTSTAMP:20260420T131541Z
CATEGORIES:Практикум
DESCRIPTION:Пение мантры «ОМ» в Санкт-Петербур
 ге каждый вторник\nТип события: Практику
 \nСсылка: https://yogasecrets.ru/index.php?option=com_eventlist&vie
 w=details&id=1561:--lr-----&Itemid=117\n
DTSTART;TZID=Asia/Baku:20160301T190000
DTEND;TZID=Asia/Baku:20160301T200000
LOCATION:Пространство СкаFUNдр\,Загородный пр
 спект\, 22\,Санкт-Петербург \,Russian Federation
SUMMARY:Пение мантры «ОМ» в Санкт-Петербурге
  каждый вторник
URL:https://yogasecrets.ru/index.php?option=com_eventlist&view=details&id=1
 561:--lr-----&Itemid=117
END:VEVENT
END:VCALENDAR
