BEGIN:VCALENDAR
CALSCALE:GREGORIAN
METHOD:PUBLISH
PRODID:-//5.199.133.97//NONSGML iCalcreator 2.6//
VERSION:2.0
UNIQUE_ID:event1568@Йога секреты
X-WR-TIMEZONE:Asia/Baku
BEGIN:VEVENT
UID:event1568@Йога секреты
DTSTAMP:20260420T131557Z
CATEGORIES:Практикум
DESCRIPTION:Семинар «Женские практики» с Сани
 ем\nТип события: Практикум\nСсылка: https://yo
 gasecrets.ru/index.php?option=com_eventlist&view=details&id=1568:-l-r--&It
 emid=117\n
DTSTART;TZID=Asia/Baku:20160306T130000
DTEND;TZID=Asia/Baku:20160306T144000
LOCATION:Центр аюрведы и йоги 'Керала'\,Мичури
 нский проспект\,3\,Москва\,Russian Federation
SUMMARY:Семинар «Женские практики» с Санише
 
URL:https://yogasecrets.ru/index.php?option=com_eventlist&view=details&id=1
 568:-l-r--&Itemid=117
END:VEVENT
END:VCALENDAR
