BEGIN:VCALENDAR
CALSCALE:GREGORIAN
METHOD:PUBLISH
PRODID:-//5.199.133.97//NONSGML iCalcreator 2.6//
VERSION:2.0
UNIQUE_ID:event1569@Йога секреты
X-WR-TIMEZONE:Asia/Baku
BEGIN:VEVENT
UID:event1569@Йога секреты
DTSTAMP:20260420T132534Z
CATEGORIES:Практикум
DESCRIPTION:Женская йога для новичков с Картик
 ом\, бесплатное занятие\nТип события: Пра
 тикум\nСсылка: https://yogasecrets.ru/index.php?option=com_eve
 ntlist&view=details&id=1569:-------&Itemid=117\n
DTSTART;TZID=Asia/Baku:20160307T160000
DTEND;TZID=Asia/Baku:20160307T173000
LOCATION:Центр аюрведы и йоги 'Керала'\,Мичури
 нский проспект\,3\,Москва\,Russian Federation
SUMMARY:Женская йога для новичков с Картиком
 \, бесплатное занятие
URL:https://yogasecrets.ru/index.php?option=com_eventlist&view=details&id=1
 569:-------&Itemid=117
END:VEVENT
END:VCALENDAR
