BEGIN:VCALENDAR
CALSCALE:GREGORIAN
METHOD:PUBLISH
PRODID:-//5.199.133.97//NONSGML iCalcreator 2.6//
VERSION:2.0
UNIQUE_ID:event1574@Йога секреты
X-WR-TIMEZONE:Asia/Baku
BEGIN:VEVENT
UID:event1574@Йога секреты
DTSTAMP:20260420T120123Z
CATEGORIES:Практикум
DESCRIPTION:ЙОГА С ЭТНИЧЕСКОЙ МУЗЫКОЙ 'ТЁПЛОЕ 
 ОЛНЦЕ' СЕРДЕЧНЫЙ ПОДАРОК\nТип события: П
 актикум\nСсылка: https://yogasecrets.ru/index.php?option=com
 _eventlist&view=details&id=1574:----q-q--&Itemid=117\n
DTSTART;TZID=Asia/Baku:20160311T190000
DTEND;TZID=Asia/Baku:20160311T210000
LOCATION:Зеленая Тара\,Кронверкский проспект
 \, д.35\,Санкт-Петербург\,Russian Federation
SUMMARY:ЙОГА С ЭТНИЧЕСКОЙ МУЗЫКОЙ 'ТЁПЛОЕ СО
 НЦЕ' СЕРДЕЧНЫЙ ПОДАРОК
URL:https://yogasecrets.ru/index.php?option=com_eventlist&view=details&id=1
 574:----q-q--&Itemid=117
END:VEVENT
END:VCALENDAR
