BEGIN:VCALENDAR
CALSCALE:GREGORIAN
METHOD:PUBLISH
PRODID:-//5.199.133.97//NONSGML iCalcreator 2.6//
VERSION:2.0
UNIQUE_ID:event1589@Йога секреты
X-WR-TIMEZONE:Asia/Baku
BEGIN:VEVENT
UID:event1589@Йога секреты
DTSTAMP:20260420T101420Z
CATEGORIES:Практикум
DESCRIPTION:Пение мантры «ОМ» в Санкт-Петербур
 ге каждый вторник и воскре\nТип события: 
 рактикум\nСсылка: https://yogasecrets.ru/index.php?option=c
 om_eventlist&view=details&id=1589:--lr-------&Itemid=117\n
DTSTART;TZID=Asia/Baku:20160322T190000
DTEND;TZID=Asia/Baku:20160322T200000
LOCATION:Пространство СкаFUNдр\,Загородный пр
 спект\, 22\,Санкт-Петербург \,Russian Federation
SUMMARY:Пение мантры «ОМ» в Санкт-Петербурге
  каждый вторник и воскре
URL:https://yogasecrets.ru/index.php?option=com_eventlist&view=details&id=1
 589:--lr-------&Itemid=117
END:VEVENT
END:VCALENDAR
