BEGIN:VCALENDAR
CALSCALE:GREGORIAN
METHOD:PUBLISH
PRODID:-//5.199.133.97//NONSGML iCalcreator 2.6//
VERSION:2.0
UNIQUE_ID:event1590@Йога секреты
X-WR-TIMEZONE:Asia/Baku
BEGIN:VEVENT
UID:event1590@Йога секреты
DTSTAMP:20260420T102927Z
CATEGORIES:Практикум
DESCRIPTION:«Хатха-йога с Андреем Попенко» — й
 ога-мероприятие в Санкт-П\nТип события: П
 актикум\nСсылка: https://yogasecrets.ru/index.php?option=com
 _eventlist&view=details&id=1590:l----r------&Itemid=117\n
DTSTART;TZID=Asia/Baku:20160320T120000
DTEND;TZID=Asia/Baku:20160320T150000
LOCATION:Пространство СкаFUNдр\,Загородный пр
 спект\, 22\,Санкт-Петербург \,Russian Federation
SUMMARY:«Хатха-йога с Андреем Попенко» — йог
 а-мероприятие в Санкт-П
URL:https://yogasecrets.ru/index.php?option=com_eventlist&view=details&id=1
 590:l----r------&Itemid=117
END:VEVENT
END:VCALENDAR
