BEGIN:VCALENDAR
CALSCALE:GREGORIAN
METHOD:PUBLISH
PRODID:-//5.199.133.97//NONSGML iCalcreator 2.6//
VERSION:2.0
UNIQUE_ID:event1591@Йога секреты
X-WR-TIMEZONE:Asia/Baku
BEGIN:VEVENT
UID:event1591@Йога секреты
DTSTAMP:20260420T103100Z
CATEGORIES:Практикум
DESCRIPTION:«Хатха-йога с Алексеем Гагариным» 
 — йога-мероприятие в Санкт\nТип события: 
 Практикум\nСсылка: https://yogasecrets.ru/index.php?option=
 com_eventlist&view=details&id=1591:l----r-----&Itemid=117\n
DTSTART;TZID=Asia/Baku:20160323T190000
DTEND;TZID=Asia/Baku:20160323T210000
LOCATION:Пространство СкаFUNдр\,Загородный пр
 спект\, 22\,Санкт-Петербург \,Russian Federation
SUMMARY:«Хатха-йога с Алексеем Гагариным» — 
 йога-мероприятие в Санкт
URL:https://yogasecrets.ru/index.php?option=com_eventlist&view=details&id=1
 591:l----r-----&Itemid=117
END:VEVENT
END:VCALENDAR
