BEGIN:VCALENDAR
CALSCALE:GREGORIAN
METHOD:PUBLISH
PRODID:-//5.199.133.97//NONSGML iCalcreator 2.6//
VERSION:2.0
UNIQUE_ID:event1596@Йога секреты
X-WR-TIMEZONE:Asia/Baku
BEGIN:VEVENT
UID:event1596@Йога секреты
DTSTAMP:20260420T100620Z
CATEGORIES:Практикум
DESCRIPTION:Открытый урок по Ишваре йоге\nТип с
 обытия: Практикум\nСсылка: https://yogasecrets.ru/ind
 ex.php?option=com_eventlist&view=details&id=1596:----&Itemid=117\n
DTSTART;TZID=Asia/Baku:20160324T203000
DTEND;TZID=Asia/Baku:20160324T220000
LOCATION:Зеленая Тара\,Кронверкский проспект
 \, д.35\,Санкт-Петербург\,Russian Federation
SUMMARY:Открытый урок по Ишваре йоге
URL:https://yogasecrets.ru/index.php?option=com_eventlist&view=details&id=1
 596:----&Itemid=117
END:VEVENT
END:VCALENDAR
