BEGIN:VCALENDAR
CALSCALE:GREGORIAN
METHOD:PUBLISH
PRODID:-//5.199.133.97//NONSGML iCalcreator 2.6//
VERSION:2.0
UNIQUE_ID:event1601@Йога секреты
X-WR-TIMEZONE:Asia/Baku
BEGIN:VEVENT
UID:event1601@Йога секреты
DTSTAMP:20260420T101930Z
CATEGORIES:Практикум
DESCRIPTION:«Хатха-йога с Андреем Попенко» — й
 ога-мероприятие в Санкт-Пе\nТип события: 
 рактикум\nСсылка: https://yogasecrets.ru/index.php?option=c
 om_eventlist&view=details&id=1601:l----r------&Itemid=117\n
DTSTART;TZID=Asia/Baku:20160324T190000
DTEND;TZID=Asia/Baku:20160324T210000
LOCATION:Пространство СкаFUNдр\,Загородный пр
 спект\, 22\,Санкт-Петербург \,Russian Federation
SUMMARY:«Хатха-йога с Андреем Попенко» — йог
 а-мероприятие в Санкт-Пе
URL:https://yogasecrets.ru/index.php?option=com_eventlist&view=details&id=1
 601:l----r------&Itemid=117
END:VEVENT
END:VCALENDAR
