BEGIN:VCALENDAR
CALSCALE:GREGORIAN
METHOD:PUBLISH
PRODID:-//5.199.133.97//NONSGML iCalcreator 2.6//
VERSION:2.0
UNIQUE_ID:event1608@Йога секреты
X-WR-TIMEZONE:Asia/Baku
BEGIN:VEVENT
UID:event1608@Йога секреты
DTSTAMP:20260420T102748Z
CATEGORIES:Практикум
DESCRIPTION:Йога Лакулиш\, открытое занятие\nТи
 п события: Практикум\nСсылка: https://yogasecrets.r
 u/index.php?option=com_eventlist&view=details&id=1608:---&Itemid=117\n
DTSTART;TZID=Asia/Baku:20160330T110000
DTEND;TZID=Asia/Baku:20160330T110000
LOCATION:Центр восточных практик Даовеллнес
 \,Большой Власьевский переулок\, дом 10\,М
 сква\,Russian Federation
SUMMARY:Йога Лакулиш\, открытое занятие
URL:https://yogasecrets.ru/index.php?option=com_eventlist&view=details&id=1
 608:---&Itemid=117
END:VEVENT
END:VCALENDAR
