BEGIN:VCALENDAR
CALSCALE:GREGORIAN
METHOD:PUBLISH
PRODID:-//5.199.133.97//NONSGML iCalcreator 2.6//
VERSION:2.0
UNIQUE_ID:event1612@Йога секреты
X-WR-TIMEZONE:Asia/Baku
BEGIN:VEVENT
UID:event1612@Йога секреты
DTSTAMP:20260420T102709Z
CATEGORIES:Практикум
DESCRIPTION:Пение мантры «ОМ» каждый вторник и
  воскресенье\nТип события: Практикум\nСсы
 лка: https://yogasecrets.ru/index.php?option=com_eventlist&view=details
 &id=1612:--lr----&Itemid=117\n
DTSTART;TZID=Asia/Baku:20160405T190000
DTEND;TZID=Asia/Baku:20160405T200000
LOCATION:Пространство СкаFUNдр\,Загородный пр
 спект\, 22\,Санкт-Петербург \,Russian Federation
SUMMARY:Пение мантры «ОМ» каждый вторник и в
 скресенье
URL:https://yogasecrets.ru/index.php?option=com_eventlist&view=details&id=1
 612:--lr----&Itemid=117
END:VEVENT
END:VCALENDAR
