BEGIN:VCALENDAR
CALSCALE:GREGORIAN
METHOD:PUBLISH
PRODID:-//5.199.133.97//NONSGML iCalcreator 2.6//
VERSION:2.0
UNIQUE_ID:event1625@Йога секреты
X-WR-TIMEZONE:Asia/Baku
BEGIN:VEVENT
UID:event1625@Йога секреты
DTSTAMP:20260420T103100Z
CATEGORIES:Практикум
DESCRIPTION:«Йога: первые шаги» по четвергам 7\,
  14\, 21 апреля\nТип события: Практикум\nСсыл
 ка: https://yogasecrets.ru/index.php?option=com_eventlist&view=details&i
 d=1625:l--r---7-14-21-&Itemid=117\n
DTSTART;TZID=Asia/Baku:20160407T180000
DTEND;TZID=Asia/Baku:20160421T210000
LOCATION:Пространство СкаFUNдр\,Загородный пр
 спект\, 22\,Санкт-Петербург \,Russian Federation
SUMMARY:«Йога: первые шаги» по четвергам 7\, 14\
 , 21 апреля
URL:https://yogasecrets.ru/index.php?option=com_eventlist&view=details&id=1
 625:l--r---7-14-21-&Itemid=117
END:VEVENT
END:VCALENDAR
