BEGIN:VCALENDAR
CALSCALE:GREGORIAN
METHOD:PUBLISH
PRODID:-//5.199.133.97//NONSGML iCalcreator 2.6//
VERSION:2.0
UNIQUE_ID:event3332@Йога секреты
X-WR-TIMEZONE:Asia/Baku
BEGIN:VEVENT
UID:event3332@Йога секреты
DTSTAMP:20260422T074023Z
CATEGORIES:Практикум
DESCRIPTION:«Краниосакральная терапия» (Крани
 осакральная Остеопатия)\nТип события: Пр
 ктикум\nСсылка: https://yogasecrets.ru/index.php?option=com_e
 ventlist&view=details&id=3332&Itemid=117\n
DTSTART;TZID=Asia/Baku:20190910T100000
DTEND;TZID=Asia/Baku:20200831T170000
LOCATION:
SUMMARY:«Краниосакральная терапия» (Краниос
 акральная Остеопатия)
URL:https://yogasecrets.ru/index.php?option=com_eventlist&view=details&id=3
 332&Itemid=117
END:VEVENT
END:VCALENDAR
