BEGIN:VCALENDAR
CALSCALE:GREGORIAN
METHOD:PUBLISH
PRODID:-//5.199.133.97//NONSGML iCalcreator 2.6//
VERSION:2.0
UNIQUE_ID:event3716@Йога секреты
X-WR-TIMEZONE:Asia/Baku
BEGIN:VEVENT
UID:event3716@Йога секреты
DTSTAMP:20260425T114759Z
CATEGORIES:Практикум
DESCRIPTION:«Йога для беременных» с Анастасие
  Екимовой\nТип события: Практикум\nСсылк
 : https://yogasecrets.ru/index.php?option=com_eventlist&view=details&id=3
 716&Itemid=117\n
DTSTART;TZID=Asia/Baku:20201201T170000
DTEND;TZID=Asia/Baku:20210630T183000
LOCATION:
SUMMARY:«Йога для беременных» с Анастасией Е
 кимовой
URL:https://yogasecrets.ru/index.php?option=com_eventlist&view=details&id=3
 716&Itemid=117
END:VEVENT
END:VCALENDAR
