BEGIN:VCALENDAR
CALSCALE:GREGORIAN
METHOD:PUBLISH
PRODID:-//5.199.133.97//NONSGML iCalcreator 2.6//
VERSION:2.0
UNIQUE_ID:event3834@Йога секреты
X-WR-TIMEZONE:Asia/Baku
BEGIN:VEVENT
UID:event3834@Йога секреты
DTSTAMP:20260425T220404Z
CATEGORIES:Практикум
DESCRIPTION:Практика «Йога для беременных» с Н
 атальей Потаповой\nТип события: Практику
 м\nСсылка: https://yogasecrets.ru/index.php?option=com_eventlist&vi
 ew=details&id=3834&Itemid=117\n
DTSTART;TZID=Asia/Baku:20220628T163000
DTEND;TZID=Asia/Baku:20221231T180000
LOCATION:
SUMMARY:Практика «Йога для беременных» с Нат
 альей Потаповой
URL:https://yogasecrets.ru/index.php?option=com_eventlist&view=details&id=3
 834&Itemid=117
END:VEVENT
END:VCALENDAR
