BEGIN:VCALENDAR
CALSCALE:GREGORIAN
METHOD:PUBLISH
PRODID:-//5.199.133.97//NONSGML iCalcreator 2.6//
VERSION:2.0
UNIQUE_ID:event3884@Йога секреты
X-WR-TIMEZONE:Asia/Baku
BEGIN:VEVENT
UID:event3884@Йога секреты
DTSTAMP:20260422T053838Z
CATEGORIES:Практикум
DESCRIPTION:Практика «Универсальная йога» с Е
 еной Колесниковой\nТип события: Практик
 м\nСсылка: https://yogasecrets.ru/index.php?option=com_eventlist&v
 iew=details&id=3884&Itemid=117\n
DTSTART;VALUE=DATE:20210919
DTEND;VALUE=DATE:20220228
LOCATION:
SUMMARY:Практика «Универсальная йога» с Еле
 ой Колесниковой
URL:https://yogasecrets.ru/index.php?option=com_eventlist&view=details&id=3
 884&Itemid=117
END:VEVENT
END:VCALENDAR
