BEGIN:VCALENDAR
CALSCALE:GREGORIAN
METHOD:PUBLISH
PRODID:-//5.199.133.97//NONSGML iCalcreator 2.6//
VERSION:2.0
UNIQUE_ID:event3955@Йога секреты
X-WR-TIMEZONE:Asia/Baku
BEGIN:VEVENT
UID:event3955@Йога секреты
DTSTAMP:20260426T230307Z
CATEGORIES:Практикум
DESCRIPTION:Онлайн-занятия в Студии йоги «Прит
 яжение».\nТип события: Практикум\nСсылка: 
 https://yogasecrets.ru/index.php?option=com_eventlist&view=details&id=3955
 &Itemid=117\n
DTSTART;VALUE=DATE:20220202
DTEND;VALUE=DATE:20220901
LOCATION:
SUMMARY:Онлайн-занятия в Студии йоги «Притяж
 ение».
URL:https://yogasecrets.ru/index.php?option=com_eventlist&view=details&id=3
 955&Itemid=117
END:VEVENT
END:VCALENDAR
