BEGIN:VCALENDAR
CALSCALE:GREGORIAN
METHOD:PUBLISH
PRODID:-//5.199.133.97//NONSGML iCalcreator 2.6//
VERSION:2.0
UNIQUE_ID:event3985@Йога секреты
X-WR-TIMEZONE:Asia/Baku
BEGIN:VEVENT
UID:event3985@Йога секреты
DTSTAMP:20260423T105450Z
CATEGORIES:Практикум
DESCRIPTION:«Йога Айенгара» с Марией Верешкин
 й.\nТип события: Практикум\nСсылка: https://yog
 asecrets.ru/index.php?option=com_eventlist&view=details&id=3985&Itemid=117
 \n
DTSTART;VALUE=DATE:20220319
DTEND;VALUE=DATE:20221001
LOCATION:
SUMMARY:«Йога Айенгара» с Марией Верешкиной.
URL:https://yogasecrets.ru/index.php?option=com_eventlist&view=details&id=3
 985&Itemid=117
END:VEVENT
END:VCALENDAR
