BEGIN:VCALENDAR
CALSCALE:GREGORIAN
METHOD:PUBLISH
PRODID:-//5.199.133.97//NONSGML iCalcreator 2.6//
VERSION:2.0
UNIQUE_ID:event3986@Йога секреты
X-WR-TIMEZONE:Asia/Baku
BEGIN:VEVENT
UID:event3986@Йога секреты
DTSTAMP:20260422T072118Z
CATEGORIES:Практикум
DESCRIPTION:Занятие 'Антигравити' с Софьей Шве
 .\nТип события: Практикум\nСсылка: https://yogas
 ecrets.ru/index.php?option=com_eventlist&view=details&id=3986:-qq---&Itemi
 d=117\n
DTSTART;TZID=Asia/Baku:20220320T150000
DTEND;TZID=Asia/Baku:20220920T160000
LOCATION:
SUMMARY:Занятие 'Антигравити' с Софьей Швец.
URL:https://yogasecrets.ru/index.php?option=com_eventlist&view=details&id=3
 986:-qq---&Itemid=117
END:VEVENT
END:VCALENDAR
