BEGIN:VCALENDAR
CALSCALE:GREGORIAN
METHOD:PUBLISH
PRODID:-//5.199.133.97//NONSGML iCalcreator 2.6//
VERSION:2.0
UNIQUE_ID:event529@Йога секреты
X-WR-TIMEZONE:Asia/Baku
BEGIN:VEVENT
UID:event529@Йога секреты
DTSTAMP:20260421T112148Z
CATEGORIES:Практикум
DESCRIPTION:Йога -тур : Интуитивная практика дл
 я жизни.\nТип события: Практикум\nСсылка: h
 ttps://yogasecrets.ru/index.php?option=com_eventlist&view=details&id=529:-
 -----&Itemid=117\n
DTSTART;VALUE=DATE:20140208
DTEND;VALUE=DATE:20140216
LOCATION:Златибор\, Сербия\,Miladina Pecinara 26\,Злати
 ор\, Сербия\,Serbia
SUMMARY:Йога -тур : Интуитивная практика для 
 изни.
URL:https://yogasecrets.ru/index.php?option=com_eventlist&view=details&id=5
 29:------&Itemid=117
END:VEVENT
END:VCALENDAR
