BEGIN:VCALENDAR
CALSCALE:GREGORIAN
METHOD:PUBLISH
PRODID:-//5.199.133.97//NONSGML iCalcreator 2.6//
VERSION:2.0
UNIQUE_ID:event533@Йога секреты
X-WR-TIMEZONE:Asia/Baku
BEGIN:VEVENT
UID:event533@Йога секреты
DTSTAMP:20260421T083634Z
CATEGORIES:Практикум
DESCRIPTION:Глубокое погружение в практику йо
 и\nТип события: Практикум\nСсылка: https://yoga
 secrets.ru/index.php?option=com_eventlist&view=details&id=533:----&Itemid=
 117\n
DTSTART;TZID=Asia/Baku:20131123T150000
DTEND;TZID=Asia/Baku:20131123T180000
LOCATION:Территория Йоги\,пр.Берёзовой рощи\, 
 дом 12\,Москва\,Russian Federation
SUMMARY:Глубокое погружение в практику йоги
URL:https://yogasecrets.ru/index.php?option=com_eventlist&view=details&id=5
 33:----&Itemid=117
END:VEVENT
END:VCALENDAR
