BEGIN:VCALENDAR
CALSCALE:GREGORIAN
METHOD:PUBLISH
PRODID:-//5.199.133.97//NONSGML iCalcreator 2.6//
VERSION:2.0
UNIQUE_ID:event554@Йога секреты
X-WR-TIMEZONE:Asia/Baku
BEGIN:VEVENT
UID:event554@Йога секреты
DTSTAMP:20260421T083033Z
CATEGORIES:Практикум
DESCRIPTION:Интенсивный класс Кундалини Йоги 
  Алексеем Меркуловым\nТип события: Практ
 икум\nСсылка: https://yogasecrets.ru/index.php?option=com_eventl
 ist&view=details&id=554:------&Itemid=117\n
DTSTART;TZID=Asia/Baku:20131228T150000
DTEND;TZID=Asia/Baku:20131228T180000
LOCATION:Эра Водолея\,ул. Тверская\, д.12\, строе
 ние 8\,Москва\,Russian Federation
SUMMARY:Интенсивный класс Кундалини Йоги с А
 лексеем Меркуловым
URL:https://yogasecrets.ru/index.php?option=com_eventlist&view=details&id=5
 54:------&Itemid=117
END:VEVENT
END:VCALENDAR
