BEGIN:VCALENDAR
CALSCALE:GREGORIAN
METHOD:PUBLISH
PRODID:-//5.199.133.97//NONSGML iCalcreator 2.6//
VERSION:2.0
UNIQUE_ID:event557@Йога секреты
X-WR-TIMEZONE:Asia/Baku
BEGIN:VEVENT
UID:event557@Йога секреты
DTSTAMP:20260421T111602Z
CATEGORIES:Практикум
DESCRIPTION:Йога-тур по Кундалини йоге с Ашото
  Тенежьяном\nТип события: Практикум\nСсы
 ка: https://yogasecrets.ru/index.php?option=com_eventlist&view=details&
 id=557:-------&Itemid=117\n
DTSTART;TZID=Asia/Baku:20140209T060000
DTEND;TZID=Asia/Baku:20140219T210000
LOCATION:Индия\,Ришикеш\,India
SUMMARY:Йога-тур по Кундалини йоге с Ашотом Т
 енежьяном
URL:https://yogasecrets.ru/index.php?option=com_eventlist&view=details&id=5
 57:-------&Itemid=117
END:VEVENT
END:VCALENDAR
