BEGIN:VCALENDAR
CALSCALE:GREGORIAN
METHOD:PUBLISH
PRODID:-//5.199.133.97//NONSGML iCalcreator 2.6//
VERSION:2.0
UNIQUE_ID:event558@Йога секреты
X-WR-TIMEZONE:Asia/Baku
BEGIN:VEVENT
UID:event558@Йога секреты
DTSTAMP:20260421T112148Z
CATEGORIES:Практикум
DESCRIPTION:Йога-тур по Шри Шри йоге с Констант
 ином Хачатуряном\nТип события: Практикум
 \nСсылка: https://yogasecrets.ru/index.php?option=com_eventlist&view
 =details&id=558:--------&Itemid=117\n
DTSTART;TZID=Asia/Baku:20140304T050000
DTEND;TZID=Asia/Baku:20140314T220000
LOCATION:Индия\,Ришикеш\,India
SUMMARY:Йога-тур по Шри Шри йоге с Константин
 ом Хачатуряном
URL:https://yogasecrets.ru/index.php?option=com_eventlist&view=details&id=5
 58:--------&Itemid=117
END:VEVENT
END:VCALENDAR
