BEGIN:VCALENDAR
CALSCALE:GREGORIAN
METHOD:PUBLISH
PRODID:-//5.199.133.97//NONSGML iCalcreator 2.6//
VERSION:2.0
UNIQUE_ID:event559@Йога секреты
X-WR-TIMEZONE:Asia/Baku
BEGIN:VEVENT
UID:event559@Йога секреты
DTSTAMP:20260421T112311Z
CATEGORIES:Практикум
DESCRIPTION:Йога-тур по Аштанга Виньяся Йоге с 
 Ксенией Жоровой\nТип события: Практикум\n
 Ссылка: https://yogasecrets.ru/index.php?option=com_eventlist&view=d
 etails&id=559:--------&Itemid=117\n
DTSTART;TZID=Asia/Baku:20140314T060000
DTEND;TZID=Asia/Baku:20140327T210000
LOCATION:Индия\,Ришикеш\,India
SUMMARY:Йога-тур по Аштанга Виньяся Йоге с Кс
 енией Жоровой
URL:https://yogasecrets.ru/index.php?option=com_eventlist&view=details&id=5
 59:--------&Itemid=117
END:VEVENT
END:VCALENDAR
