BEGIN:VCALENDAR
CALSCALE:GREGORIAN
METHOD:PUBLISH
PRODID:-//5.199.133.97//NONSGML iCalcreator 2.6//
VERSION:2.0
UNIQUE_ID:event571@Йога секреты
X-WR-TIMEZONE:Asia/Baku
BEGIN:VEVENT
UID:event571@Йога секреты
DTSTAMP:20260421T111316Z
CATEGORIES:Практикум
DESCRIPTION:Мужская практика хатха-йоги\nТип с
 бытия: Практикум\nСсылка: https://yogasecrets.ru/inde
 x.php?option=com_eventlist&view=details&id=571:---&Itemid=117\n
DTSTART;TZID=Asia/Baku:20140205T203000
DTEND;TZID=Asia/Baku:20140205T220000
LOCATION:
SUMMARY:Мужская практика хатха-йоги
URL:https://yogasecrets.ru/index.php?option=com_eventlist&view=details&id=5
 71:---&Itemid=117
END:VEVENT
END:VCALENDAR
