BEGIN:VCALENDAR
CALSCALE:GREGORIAN
METHOD:PUBLISH
PRODID:-//5.199.133.97//NONSGML iCalcreator 2.6//
VERSION:2.0
UNIQUE_ID:event573@Йога секреты
X-WR-TIMEZONE:Asia/Baku
BEGIN:VEVENT
UID:event573@Йога секреты
DTSTAMP:20260421T111315Z
CATEGORIES:Практикум
DESCRIPTION:Индия: Йога-тур 'Пробуждение души'\n
 Тип события: Практикум\nСсылка: https://yogasecre
 ts.ru/index.php?option=com_eventlist&view=details&id=573:---q-q&Itemid=117
 \n
DTSTART;VALUE=DATE:20140209
DTEND;VALUE=DATE:20140223
LOCATION:Керала\, Индия\,Керала\,India
SUMMARY:Индия: Йога-тур 'Пробуждение души'
URL:https://yogasecrets.ru/index.php?option=com_eventlist&view=details&id=5
 73:---q-q&Itemid=117
END:VEVENT
END:VCALENDAR
