BEGIN:VCALENDAR
CALSCALE:GREGORIAN
METHOD:PUBLISH
PRODID:-//5.199.133.97//NONSGML iCalcreator 2.6//
VERSION:2.0
UNIQUE_ID:event582@Йога секреты
X-WR-TIMEZONE:Asia/Baku
BEGIN:VEVENT
UID:event582@Йога секреты
DTSTAMP:20260421T142550Z
CATEGORIES:Практикум
DESCRIPTION:Йога-тур в Керала  'Очищение от ток
 инов'\nТип события: Практикум\nСсылка: https
 ://yogasecrets.ru/index.php?option=com_eventlist&view=details&id=582:----q
 --q&Itemid=117\n
DTSTART;VALUE=DATE:20140414
DTEND;VALUE=DATE:20140428
LOCATION:Керала\, Индия\,Керала\,India
SUMMARY:Йога-тур в Керала  'Очищение от токси
 ов'
URL:https://yogasecrets.ru/index.php?option=com_eventlist&view=details&id=5
 82:----q--q&Itemid=117
END:VEVENT
END:VCALENDAR
