BEGIN:VCALENDAR
CALSCALE:GREGORIAN
METHOD:PUBLISH
PRODID:-//5.199.133.97//NONSGML iCalcreator 2.6//
VERSION:2.0
UNIQUE_ID:event598@Йога секреты
X-WR-TIMEZONE:Asia/Baku
BEGIN:VEVENT
UID:event598@Йога секреты
DTSTAMP:20260421T112918Z
CATEGORIES:Практикум
DESCRIPTION:Открытый урок по бикрам-йоге\nТип с
 обытия: Практикум\nСсылка: https://yogasecrets.ru/ind
 ex.php?option=com_eventlist&view=details&id=598:----&Itemid=117\n
DTSTART;TZID=Asia/Baku:20140223T110000
DTEND;TZID=Asia/Baku:20140223T123000
LOCATION:Бикрам Йога Варшавка\,Варшавское шо
 се\, д. 118\, к. 1\,Москва\,Russian Federation
SUMMARY:Открытый урок по бикрам-йоге
URL:https://yogasecrets.ru/index.php?option=com_eventlist&view=details&id=5
 98:----&Itemid=117
END:VEVENT
END:VCALENDAR
