BEGIN:VCALENDAR
CALSCALE:GREGORIAN
METHOD:PUBLISH
PRODID:-//5.199.133.97//NONSGML iCalcreator 2.6//
VERSION:2.0
UNIQUE_ID:event609@Йога секреты
X-WR-TIMEZONE:Asia/Baku
BEGIN:VEVENT
UID:event609@Йога секреты
DTSTAMP:20260421T153856Z
CATEGORIES:Практикум
DESCRIPTION:Джапа Процветания в Геленджике!\nТ
 п события: Практикум\nСсылка: https://yogasecrets.
 ru/index.php?option=com_eventlist&view=details&id=609:---&Itemid=117\n
DTSTART;TZID=Asia/Baku:20140502T060000
DTEND;TZID=Asia/Baku:20140503T170000
LOCATION:Даша Каболова. Йога и целение\,Москв
 \,Russian Federation
SUMMARY:Джапа Процветания в Геленджике!
URL:https://yogasecrets.ru/index.php?option=com_eventlist&view=details&id=6
 09:---&Itemid=117
END:VEVENT
END:VCALENDAR
