BEGIN:VCALENDAR
CALSCALE:GREGORIAN
METHOD:PUBLISH
PRODID:-//5.199.133.97//NONSGML iCalcreator 2.6//
VERSION:2.0
UNIQUE_ID:event611@Йога секреты
X-WR-TIMEZONE:Asia/Baku
BEGIN:VEVENT
UID:event611@Йога секреты
DTSTAMP:20260421T111316Z
CATEGORIES:Практикум
DESCRIPTION:Гостевая встреча с Ириной Каращук
 \nТип события: Практикум\nСсылка: https://yogasec
 rets.ru/index.php?option=com_eventlist&view=details&id=611:----&Itemid=117
 \n
DTSTART;TZID=Asia/Baku:20140301T140000
DTEND;TZID=Asia/Baku:20140301T180000
LOCATION:
SUMMARY:Гостевая встреча с Ириной Каращук
URL:https://yogasecrets.ru/index.php?option=com_eventlist&view=details&id=6
 11:----&Itemid=117
END:VEVENT
END:VCALENDAR
