BEGIN:VCALENDAR
CALSCALE:GREGORIAN
METHOD:PUBLISH
PRODID:-//5.199.133.97//NONSGML iCalcreator 2.6//
VERSION:2.0
UNIQUE_ID:event621@Йога секреты
X-WR-TIMEZONE:Asia/Baku
BEGIN:VEVENT
UID:event621@Йога секреты
DTSTAMP:20260421T111315Z
CATEGORIES:Практикум
DESCRIPTION:Бесплатное занятие по горячей бик
 ам-йоге\nТип события: Практикум\nСсылка: h
 ttps://yogasecrets.ru/index.php?option=com_eventlist&view=details&id=621:-
 ----&Itemid=117\n
DTSTART;TZID=Asia/Baku:20140308T110000
DTEND;TZID=Asia/Baku:20140308T123000
LOCATION:Бикрам Йога Варшавка\,Варшавское шо
 се\, д. 118\, к. 1\,Москва\,Russian Federation
SUMMARY:Бесплатное занятие по горячей бикра
 -йоге
URL:https://yogasecrets.ru/index.php?option=com_eventlist&view=details&id=6
 21:-----&Itemid=117
END:VEVENT
END:VCALENDAR
